BEGIN:VCALENDAR
VERSION:2.0
PRODID:-//CERN//INDICO//EN
BEGIN:VEVENT
SUMMARY:Traineranmeldung: NextGen Camp Hamburg / Schleswig-Holstein - Sams
 tag & Sonntag (02. & 03.05.2026)
DTSTART:20260502T080000Z
DTEND:20260503T133000Z
DTSTAMP:20260419T131900Z
UID:indico-event-30@events.hamburg-badminton.de
CONTACT:camp@hamburg-badminton.de
DESCRIPTION:https://events.hamburg-badminton.de/event/30/
URL:https://events.hamburg-badminton.de/event/30/
END:VEVENT
END:VCALENDAR
